BEGIN:VCALENDAR
VERSION:2.0
PRODID:-//Lovers of food - ECPv6.15.18//NONSGML v1.0//EN
CALSCALE:GREGORIAN
METHOD:PUBLISH
X-ORIGINAL-URL:https://loversoffood.nl
X-WR-CALDESC:Evenementen voor Lovers of food
REFRESH-INTERVAL;VALUE=DURATION:PT1H
X-Robots-Tag:noindex
X-PUBLISHED-TTL:PT1H
BEGIN:VTIMEZONE
TZID:UTC
BEGIN:STANDARD
TZOFFSETFROM:+0000
TZOFFSETTO:+0000
TZNAME:UTC
DTSTART:20250101T000000
END:STANDARD
END:VTIMEZONE
BEGIN:VEVENT
DTSTART;VALUE=DATE:20260319
DTEND;VALUE=DATE:20260320
DTSTAMP:20260419T235955
CREATED:20260208T170929Z
LAST-MODIFIED:20260313T055225Z
UID:1090-1773878400-1773964799@loversoffood.nl
SUMMARY:Stemmen tellen gemeente Katwijk
DESCRIPTION:Vandaag gaan we zorgen voor de mensen tijdens het het stemmen tellen van de gemeente Katwijk
URL:https://loversoffood.nl/event/heerlijke-gerookte-vis-in-katwijk-2/
END:VEVENT
END:VCALENDAR