BEGIN:VCALENDAR
VERSION:2.0
PRODID:-//Lovers of food - ECPv6.15.18//NONSGML v1.0//EN
CALSCALE:GREGORIAN
METHOD:PUBLISH
X-ORIGINAL-URL:https://loversoffood.nl
X-WR-CALDESC:Evenementen voor Lovers of food
REFRESH-INTERVAL;VALUE=DURATION:PT1H
X-Robots-Tag:noindex
X-PUBLISHED-TTL:PT1H
BEGIN:VTIMEZONE
TZID:UTC
BEGIN:STANDARD
TZOFFSETFROM:+0000
TZOFFSETTO:+0000
TZNAME:UTC
DTSTART:20250101T000000
END:STANDARD
END:VTIMEZONE
BEGIN:VEVENT
DTSTART;TZID=UTC:20260512T100000
DTEND;TZID=UTC:20260512T133000
DTSTAMP:20260419T153729
CREATED:20260208T174221Z
LAST-MODIFIED:20260208T174221Z
UID:1116-1778580000-1778592600@loversoffood.nl
SUMMARY:Heerlijk gerookte vis in Leiden
DESCRIPTION:
URL:https://loversoffood.nl/event/heerlijk-gerookte-vis-in-leiden/
LOCATION:Topaz Overrhyn\, Willem de Zwijgerlaan 44\, Leiden\, 2326GJ
END:VEVENT
END:VCALENDAR