BEGIN:VCALENDAR
VERSION:2.0
PRODID:-//Lovers of food - ECPv6.15.18//NONSGML v1.0//EN
CALSCALE:GREGORIAN
METHOD:PUBLISH
X-ORIGINAL-URL:https://loversoffood.nl
X-WR-CALDESC:Evenementen voor Lovers of food
REFRESH-INTERVAL;VALUE=DURATION:PT1H
X-Robots-Tag:noindex
X-PUBLISHED-TTL:PT1H
BEGIN:VTIMEZONE
TZID:UTC
BEGIN:STANDARD
TZOFFSETFROM:+0000
TZOFFSETTO:+0000
TZNAME:UTC
DTSTART:20250101T000000
END:STANDARD
END:VTIMEZONE
BEGIN:VEVENT
DTSTART;TZID=UTC:20260528T100000
DTEND;TZID=UTC:20260528T133000
DTSTAMP:20260420T125705
CREATED:20260331T143354Z
LAST-MODIFIED:20260419T135545Z
UID:1404-1779962400-1779975000@loversoffood.nl
SUMMARY:Heerlijke gerookte vis in Noordwijkerhout (extra dag)
DESCRIPTION:We staan gelijk bij binnenkomst
URL:https://loversoffood.nl/event/heerlijke-gerookte-vis-3-2/
LOCATION:Topaz Munnekeweij\, Via Antiqua 25\, Noordwijkerhout\, 2211 HW
END:VEVENT
END:VCALENDAR