BEGIN:VCALENDAR
VERSION:2.0
PRODID:-//Lovers of food - ECPv6.15.18//NONSGML v1.0//EN
CALSCALE:GREGORIAN
METHOD:PUBLISH
X-ORIGINAL-URL:https://loversoffood.nl
X-WR-CALDESC:Evenementen voor Lovers of food
REFRESH-INTERVAL;VALUE=DURATION:PT1H
X-Robots-Tag:noindex
X-PUBLISHED-TTL:PT1H
BEGIN:VTIMEZONE
TZID:UTC
BEGIN:STANDARD
TZOFFSETFROM:+0000
TZOFFSETTO:+0000
TZNAME:UTC
DTSTART:20250101T000000
END:STANDARD
END:VTIMEZONE
BEGIN:VEVENT
DTSTART;TZID=UTC:20260611T100000
DTEND;TZID=UTC:20260611T133000
DTSTAMP:20260420T205025
CREATED:20260312T130110Z
LAST-MODIFIED:20260419T135717Z
UID:1202-1781172000-1781184600@loversoffood.nl
SUMMARY:Heerlijk gerookte vis in Den Haag
DESCRIPTION:
URL:https://loversoffood.nl/event/heerlijk-gerookte-vis-in-den-haag-2/
LOCATION:Huize Royal\, Rusthoekstraat 38\, Den Haag\, 2584 CV
END:VEVENT
END:VCALENDAR