BEGIN:VCALENDAR
VERSION:2.0
PRODID:-//Lovers of food - ECPv6.15.18//NONSGML v1.0//EN
CALSCALE:GREGORIAN
METHOD:PUBLISH
X-WR-CALNAME:Lovers of food
X-ORIGINAL-URL:https://loversoffood.nl
X-WR-CALDESC:Evenementen voor Lovers of food
REFRESH-INTERVAL;VALUE=DURATION:PT1H
X-Robots-Tag:noindex
X-PUBLISHED-TTL:PT1H
BEGIN:VTIMEZONE
TZID:UTC
BEGIN:STANDARD
TZOFFSETFROM:+0000
TZOFFSETTO:+0000
TZNAME:UTC
DTSTART:20250101T000000
END:STANDARD
END:VTIMEZONE
BEGIN:VEVENT
DTSTART;TZID=UTC:20260710T100000
DTEND;TZID=UTC:20260710T130000
DTSTAMP:20260420T222040
CREATED:20260312T134536Z
LAST-MODIFIED:20260312T141002Z
UID:1244-1783677600-1783688400@loversoffood.nl
SUMMARY:Heerlijke gerookte vis in Noordwijkerhout
DESCRIPTION:
URL:https://loversoffood.nl/event/heerlijke-gerookte-vis-3/
LOCATION:Topaz Munnekeweij\, Via Antiqua 25\, Noordwijkerhout\, 2211 HW
END:VEVENT
END:VCALENDAR