BEGIN:VCALENDAR
VERSION:2.0
PRODID:-//Lovers of food - ECPv6.15.18//NONSGML v1.0//EN
CALSCALE:GREGORIAN
METHOD:PUBLISH
X-ORIGINAL-URL:https://loversoffood.nl
X-WR-CALDESC:Evenementen voor Lovers of food
REFRESH-INTERVAL;VALUE=DURATION:PT1H
X-Robots-Tag:noindex
X-PUBLISHED-TTL:PT1H
BEGIN:VTIMEZONE
TZID:UTC
BEGIN:STANDARD
TZOFFSETFROM:+0000
TZOFFSETTO:+0000
TZNAME:UTC
DTSTART:20250101T000000
END:STANDARD
END:VTIMEZONE
BEGIN:VEVENT
DTSTART;TZID=UTC:20260712T150000
DTEND;TZID=UTC:20260712T210000
DTSTAMP:20260420T223129
CREATED:20260420T061615Z
LAST-MODIFIED:20260420T061624Z
UID:1537-1783868400-1783890000@loversoffood.nl
SUMMARY:Besloten feest in Oegstgeest
DESCRIPTION:
URL:https://loversoffood.nl/event/besloten-feest-in-oegstgeest/
END:VEVENT
END:VCALENDAR