BEGIN:VCALENDAR
VERSION:2.0
PRODID:-//Lovers of food - ECPv6.15.18//NONSGML v1.0//EN
CALSCALE:GREGORIAN
METHOD:PUBLISH
X-WR-CALNAME:Lovers of food
X-ORIGINAL-URL:https://loversoffood.nl
X-WR-CALDESC:Evenementen voor Lovers of food
REFRESH-INTERVAL;VALUE=DURATION:PT1H
X-Robots-Tag:noindex
X-PUBLISHED-TTL:PT1H
BEGIN:VTIMEZONE
TZID:UTC
BEGIN:STANDARD
TZOFFSETFROM:+0000
TZOFFSETTO:+0000
TZNAME:UTC
DTSTART:20250101T000000
END:STANDARD
END:VTIMEZONE
BEGIN:VEVENT
DTSTART;TZID=UTC:20260718T090000
DTEND;TZID=UTC:20260718T160000
DTSTAMP:20260420T221917
CREATED:20260312T135226Z
LAST-MODIFIED:20260331T144244Z
UID:1252-1784365200-1784390400@loversoffood.nl
SUMMARY:Heerlijke gerookte vis op braderie in Noordwijkerhout
DESCRIPTION:Vandaag staan we op de grootste braderie van de Bollenstreek \nwe staan bij het marktplein \n  \n 
URL:https://loversoffood.nl/event/heerlijke-gerookte-vis-7/
LOCATION:Braderie noordwijkerhout\, Havenstraat\, Noordwijkerhout
END:VEVENT
END:VCALENDAR