BEGIN:VCALENDAR
VERSION:2.0
PRODID:-//Lovers of food - ECPv6.15.18//NONSGML v1.0//EN
CALSCALE:GREGORIAN
METHOD:PUBLISH
X-ORIGINAL-URL:https://loversoffood.nl
X-WR-CALDESC:Evenementen voor Lovers of food
REFRESH-INTERVAL;VALUE=DURATION:PT1H
X-Robots-Tag:noindex
X-PUBLISHED-TTL:PT1H
BEGIN:VTIMEZONE
TZID:UTC
BEGIN:STANDARD
TZOFFSETFROM:+0000
TZOFFSETTO:+0000
TZNAME:UTC
DTSTART:20250101T000000
END:STANDARD
END:VTIMEZONE
BEGIN:VEVENT
DTSTART;TZID=UTC:20261001T110000
DTEND;TZID=UTC:20261001T153000
DTSTAMP:20260421T014832
CREATED:20260312T142820Z
LAST-MODIFIED:20260312T142820Z
UID:1297-1790852400-1790868600@loversoffood.nl
SUMMARY:Heerlijke gerookte vis in Katwijk
DESCRIPTION:
URL:https://loversoffood.nl/event/heerlijke-gerookte-vis-in-katwijk-5/
LOCATION:Marente\, De Wilbert\, Overrijn 7\, Katwijk aan zee\, 2223 ER
END:VEVENT
END:VCALENDAR