BEGIN:VCALENDAR
VERSION:2.0
PRODID:-//Lovers of food - ECPv6.15.18//NONSGML v1.0//EN
CALSCALE:GREGORIAN
METHOD:PUBLISH
X-WR-CALNAME:Lovers of food
X-ORIGINAL-URL:https://loversoffood.nl
X-WR-CALDESC:Evenementen voor Lovers of food
REFRESH-INTERVAL;VALUE=DURATION:PT1H
X-Robots-Tag:noindex
X-PUBLISHED-TTL:PT1H
BEGIN:VTIMEZONE
TZID:UTC
BEGIN:STANDARD
TZOFFSETFROM:+0000
TZOFFSETTO:+0000
TZNAME:UTC
DTSTART:20250101T000000
END:STANDARD
END:VTIMEZONE
BEGIN:VEVENT
DTSTART;TZID=UTC:20261110T100000
DTEND;TZID=UTC:20261110T133000
DTSTAMP:20260421T045306
CREATED:20260331T153324Z
LAST-MODIFIED:20260331T153324Z
UID:1433-1794304800-1794317400@loversoffood.nl
SUMMARY:Heerlijke gerookte vis in Leiden
DESCRIPTION:
URL:https://loversoffood.nl/event/heerlijke-gerookte-vis-in-leiden-4-2/
LOCATION:Topaz Overrhyn\, Willem de Zwijgerlaan 44\, Leiden\, 2326GJ
END:VEVENT
END:VCALENDAR