BEGIN:VCALENDAR
VERSION:2.0
PRODID:-//Lovers of food - ECPv6.15.18//NONSGML v1.0//EN
CALSCALE:GREGORIAN
METHOD:PUBLISH
X-WR-CALNAME:Lovers of food
X-ORIGINAL-URL:https://loversoffood.nl
X-WR-CALDESC:Evenementen voor Lovers of food
REFRESH-INTERVAL;VALUE=DURATION:PT1H
X-Robots-Tag:noindex
X-PUBLISHED-TTL:PT1H
BEGIN:VTIMEZONE
TZID:UTC
BEGIN:STANDARD
TZOFFSETFROM:+0000
TZOFFSETTO:+0000
TZNAME:UTC
DTSTART:20250101T000000
END:STANDARD
END:VTIMEZONE
BEGIN:VEVENT
DTSTART;TZID=UTC:20261105T110000
DTEND;TZID=UTC:20261105T153000
DTSTAMP:20260419T154627
CREATED:20260331T153126Z
LAST-MODIFIED:20260331T153126Z
UID:1423-1793876400-1793892600@loversoffood.nl
SUMMARY:Heerlijke gerookte vis in Katwijk
DESCRIPTION:
URL:https://loversoffood.nl/event/heerlijke-gerookte-vis-in-katwijk-6-2/
LOCATION:Marente\, De Wilbert\, Overrijn 7\, Katwijk aan zee\, 2223 ER
END:VEVENT
BEGIN:VEVENT
DTSTART;TZID=UTC:20261106T100000
DTEND;TZID=UTC:20261106T133000
DTSTAMP:20260419T154627
CREATED:20260312T143458Z
LAST-MODIFIED:20260312T143458Z
UID:1313-1793959200-1793971800@loversoffood.nl
SUMMARY:Heerlijke gerookte vis in Oegstgeest
DESCRIPTION:
URL:https://loversoffood.nl/event/heerlijke-gerookte-vis-in-oegstgeest-5/
LOCATION:Van Wijckerslooth\, van Wijckerslootplein 1\, Oegstgeest\, 2341 BB
END:VEVENT
BEGIN:VEVENT
DTSTART;TZID=UTC:20261110T100000
DTEND;TZID=UTC:20261110T133000
DTSTAMP:20260419T154627
CREATED:20260331T153324Z
LAST-MODIFIED:20260331T153324Z
UID:1433-1794304800-1794317400@loversoffood.nl
SUMMARY:Heerlijke gerookte vis in Leiden
DESCRIPTION:
URL:https://loversoffood.nl/event/heerlijke-gerookte-vis-in-leiden-4-2/
LOCATION:Topaz Overrhyn\, Willem de Zwijgerlaan 44\, Leiden\, 2326GJ
END:VEVENT
BEGIN:VEVENT
DTSTART;TZID=UTC:20261111T100000
DTEND;TZID=UTC:20261111T133000
DTSTAMP:20260419T154627
CREATED:20260208T175622Z
LAST-MODIFIED:20260208T175622Z
UID:1150-1794391200-1794403800@loversoffood.nl
SUMMARY:Heerlijke gerookte vis in Noordwijk
DESCRIPTION:
URL:https://loversoffood.nl/event/heerlijke-gerookte-vis-in-noordwijk-9/
LOCATION:Groot Hoogwaak\, Groot hoogwaak 1\, Noordwijk\, 2202 TX
END:VEVENT
BEGIN:VEVENT
DTSTART;TZID=UTC:20261112T100000
DTEND;TZID=UTC:20261112T133000
DTSTAMP:20260419T154627
CREATED:20260208T175704Z
LAST-MODIFIED:20260208T175704Z
UID:1152-1794477600-1794490200@loversoffood.nl
SUMMARY:Heerlijke gerookte vis in Den Haag
DESCRIPTION:
URL:https://loversoffood.nl/event/heerlijke-gerookte-vis-in-den-haag-8/
LOCATION:Huize Royal\, Rusthoekstraat 38\, Den Haag\, 2584 CV
END:VEVENT
BEGIN:VEVENT
DTSTART;TZID=UTC:20261113T100000
DTEND;TZID=UTC:20261113T133000
DTSTAMP:20260419T154627
CREATED:20260312T143717Z
LAST-MODIFIED:20260312T143717Z
UID:1318-1794564000-1794576600@loversoffood.nl
SUMMARY:Heerlijke gerookte vis in Noordwijkerhout
DESCRIPTION:
URL:https://loversoffood.nl/event/heerlijke-gerookte-vis-in-noordwijkerhout-8/
LOCATION:Topaz Munnekeweij\, Via Antiqua 25\, Noordwijkerhout\, 2211 HW
END:VEVENT
BEGIN:VEVENT
DTSTART;TZID=UTC:20261119T100000
DTEND;TZID=UTC:20261119T133000
DTSTAMP:20260419T154627
CREATED:20260413T054310Z
LAST-MODIFIED:20260413T054317Z
UID:1528-1795082400-1795095000@loversoffood.nl
SUMMARY:Heerlijk gerookte vis in Noordwijkerhout (extra dag)
DESCRIPTION:We staan bij binnenkomst. Direct in het atrium
URL:https://loversoffood.nl/event/heerlijk-gerookte-vis-in-noordwijkerhout-extra-dag-5/
LOCATION:Topaz Munnekeweij\, Via Antiqua 25\, Noordwijkerhout\, 2211 HW
END:VEVENT
BEGIN:VEVENT
DTSTART;TZID=UTC:20261126T100000
DTEND;TZID=UTC:20261126T133000
DTSTAMP:20260419T154627
CREATED:20260331T153510Z
LAST-MODIFIED:20260331T153510Z
UID:1435-1795687200-1795699800@loversoffood.nl
SUMMARY:Heerlijke gerookte vis in Noordwijkerhout (extra dag)
DESCRIPTION:We staan direct bij binnenkomst
URL:https://loversoffood.nl/event/heerlijke-gerookte-vis-in-noordwijkerhout-9-2-2/
LOCATION:Topaz Munnekeweij\, Via Antiqua 25\, Noordwijkerhout\, 2211 HW
END:VEVENT
BEGIN:VEVENT
DTSTART;TZID=UTC:20261203T110000
DTEND;TZID=UTC:20261203T153000
DTSTAMP:20260419T154627
CREATED:20260312T144124Z
LAST-MODIFIED:20260312T144124Z
UID:1323-1796295600-1796311800@loversoffood.nl
SUMMARY:Heerlijke gerookte vis in Katwijk
DESCRIPTION:
URL:https://loversoffood.nl/event/heerlijke-gerookte-vis-in-katwijk-7/
LOCATION:Marente\, De Wilbert\, Overrijn 7\, Katwijk aan zee\, 2223 ER
END:VEVENT
BEGIN:VEVENT
DTSTART;TZID=UTC:20261204T100000
DTEND;TZID=UTC:20261204T133000
DTSTAMP:20260419T154627
CREATED:20260312T144258Z
LAST-MODIFIED:20260312T144258Z
UID:1328-1796378400-1796391000@loversoffood.nl
SUMMARY:Heerlijke gerookte vis in Oegstgeest
DESCRIPTION:
URL:https://loversoffood.nl/event/heerlijke-gerookte-vis-in-oegstgeest-6/
LOCATION:Van Wijckerslooth\, van Wijckerslootplein 1\, Oegstgeest\, 2341 BB
END:VEVENT
BEGIN:VEVENT
DTSTART;TZID=UTC:20261207T100000
DTEND;TZID=UTC:20261207T133000
DTSTAMP:20260419T154627
CREATED:20260312T144207Z
LAST-MODIFIED:20260312T144207Z
UID:1326-1796637600-1796650200@loversoffood.nl
SUMMARY:Heerlijke gerookte vis in Leiderdorp
DESCRIPTION:
URL:https://loversoffood.nl/event/heerlijke-gerookte-vis-in-leiderdorp-6/
LOCATION:Alrijne leythenrode\, Hoogmadeseweg 55\, Leiderdorp\, 2351CP
END:VEVENT
BEGIN:VEVENT
DTSTART;TZID=UTC:20261208T100000
DTEND;TZID=UTC:20261208T133000
DTSTAMP:20260419T154627
CREATED:20260312T143542Z
LAST-MODIFIED:20260312T143945Z
UID:1315-1796724000-1796736600@loversoffood.nl
SUMMARY:Heerlijke gerookte vis in Leiden
DESCRIPTION:
URL:https://loversoffood.nl/event/heerlijke-gerookte-vis-in-noordwijk-12/
LOCATION:Topaz Overrhyn\, Willem de Zwijgerlaan 44\, Leiden\, 2326GJ
END:VEVENT
BEGIN:VEVENT
DTSTART;TZID=UTC:20261209T100000
DTEND;TZID=UTC:20261209T133000
DTSTAMP:20260419T154627
CREATED:20260208T175742Z
LAST-MODIFIED:20260208T175742Z
UID:1154-1796810400-1796823000@loversoffood.nl
SUMMARY:Heerlijke gerookte vis in Noordwijk
DESCRIPTION:
URL:https://loversoffood.nl/event/heerlijke-gerookte-vis-in-noordwijk-10/
LOCATION:Groot Hoogwaak\, Groot hoogwaak 1\, Noordwijk\, 2202 TX
END:VEVENT
BEGIN:VEVENT
DTSTART;TZID=UTC:20261210T110000
DTEND;TZID=UTC:20261210T140000
DTSTAMP:20260419T154627
CREATED:20260208T175822Z
LAST-MODIFIED:20260419T141101Z
UID:1156-1796900400-1796911200@loversoffood.nl
SUMMARY:Heerlijke snert in Vijfhuizen (dag van de chauffeur!)
DESCRIPTION:Vandaag staan we Dura Vermeer Vijfhuizen om alle chauffeurs te trakteren op een kop huisgemaakte snert met roggebrood met spek
URL:https://loversoffood.nl/event/heerlijke-gerookte-vis-in-vijfhuizen-2/
END:VEVENT
BEGIN:VEVENT
DTSTART;TZID=UTC:20261212T090000
DTEND;TZID=UTC:20261212T160000
DTSTAMP:20260419T154627
CREATED:20260331T153920Z
LAST-MODIFIED:20260419T140750Z
UID:1437-1797066000-1797091200@loversoffood.nl
SUMMARY:Kerstmarkt in Oegstgeest
DESCRIPTION:Vandaag in Haaswijk op het plein bij de LidL
URL:https://loversoffood.nl/event/zo-maar-markt-in-oegstgeest-2/
END:VEVENT
BEGIN:VEVENT
DTSTART;TZID=UTC:20261216T110000
DTEND;TZID=UTC:20261216T143000
DTSTAMP:20260419T154627
CREATED:20260208T175933Z
LAST-MODIFIED:20260419T140911Z
UID:1158-1797418800-1797431400@loversoffood.nl
SUMMARY:Frietje en snackje in Leiderdorp
DESCRIPTION:Vandaag staan we in Leythenrode in Leiderdorp en bakken een frietje met een snackje voor alle bewoners
URL:https://loversoffood.nl/event/heerlijk-gerookte-vis-in-den-haag/
LOCATION:Alrijne leythenrode\, Hoogmadeseweg 55\, Leiderdorp\, 2351CP
END:VEVENT
BEGIN:VEVENT
DTSTART;TZID=UTC:20261218T100000
DTEND;TZID=UTC:20261218T133000
DTSTAMP:20260419T154627
CREATED:20260312T144041Z
LAST-MODIFIED:20260419T140814Z
UID:1321-1797588000-1797600600@loversoffood.nl
SUMMARY:Heerlijke gerookte vis in Noordwijkerhout
DESCRIPTION:
URL:https://loversoffood.nl/event/heerlijke-gerookte-vis-in-noordwijkerhout-9/
LOCATION:Topaz Munnekeweij\, Via Antiqua 25\, Noordwijkerhout\, 2211 HW
END:VEVENT
BEGIN:VEVENT
DTSTART;VALUE=DATE:20261225
DTEND;VALUE=DATE:20270104
DTSTAMP:20260419T154627
CREATED:20260331T181507Z
LAST-MODIFIED:20260331T181528Z
UID:1465-1798156800-1799020799@loversoffood.nl
SUMMARY:GESLOTEN
DESCRIPTION:
URL:https://loversoffood.nl/event/gesloten-13/
END:VEVENT
END:VCALENDAR