BEGIN:VCALENDAR
VERSION:2.0
PRODID:-//Lovers of food - ECPv6.15.18//NONSGML v1.0//EN
CALSCALE:GREGORIAN
METHOD:PUBLISH
X-ORIGINAL-URL:https://loversoffood.nl
X-WR-CALDESC:Evenementen voor Lovers of food
REFRESH-INTERVAL;VALUE=DURATION:PT1H
X-Robots-Tag:noindex
X-PUBLISHED-TTL:PT1H
BEGIN:VTIMEZONE
TZID:UTC
BEGIN:STANDARD
TZOFFSETFROM:+0000
TZOFFSETTO:+0000
TZNAME:UTC
DTSTART:20250101T000000
END:STANDARD
END:VTIMEZONE
BEGIN:VEVENT
DTSTART;VALUE=DATE:20260725
DTEND;VALUE=DATE:20260814
DTSTAMP:20260420T223832
CREATED:20260331T180931Z
LAST-MODIFIED:20260331T180931Z
UID:1460-1784937600-1786665599@loversoffood.nl
SUMMARY:GESLOTEN
DESCRIPTION:
URL:https://loversoffood.nl/event/gesloten-11/
END:VEVENT
BEGIN:VEVENT
DTSTART;VALUE=DATE:20260814
DTEND;VALUE=DATE:20260815
DTSTAMP:20260420T223832
CREATED:20260312T135404Z
LAST-MODIFIED:20260312T135432Z
UID:1255-1786665600-1786751999@loversoffood.nl
SUMMARY:Besloten feest in Noordwijkerhout
DESCRIPTION:Heerlijk knallen op een besloten feestje in Noordwijkerhout
URL:https://loversoffood.nl/event/besloten-feest-in-noordwijkerhout/
LOCATION:Noordwijkerhout
END:VEVENT
BEGIN:VEVENT
DTSTART;VALUE=DATE:20260815
DTEND;VALUE=DATE:20260816
DTSTAMP:20260420T223832
CREATED:20260312T135516Z
LAST-MODIFIED:20260312T135516Z
UID:1258-1786752000-1786838399@loversoffood.nl
SUMMARY:Besloten feest in noordwijkerhout
DESCRIPTION:Heerlijk knallen op een besloten feestje in Noordwijkerhout
URL:https://loversoffood.nl/event/besloten-feest-in-noordwijkerhout-2/
LOCATION:Noordwijkerhout
END:VEVENT
BEGIN:VEVENT
DTSTART;VALUE=DATE:20260816
DTEND;VALUE=DATE:20260824
DTSTAMP:20260420T223832
CREATED:20260331T181006Z
LAST-MODIFIED:20260331T181006Z
UID:1462-1786838400-1787529599@loversoffood.nl
SUMMARY:GESLOTEN
DESCRIPTION:
URL:https://loversoffood.nl/event/gesloten-12/
END:VEVENT
BEGIN:VEVENT
DTSTART;VALUE=DATE:20260825
DTEND;VALUE=DATE:20260826
DTSTAMP:20260420T223832
CREATED:20260312T142024Z
LAST-MODIFIED:20260331T145806Z
UID:1293-1787616000-1787702399@loversoffood.nl
SUMMARY:Frietje en een snackje Leiderdorp
DESCRIPTION:Vandaag staan we in Leythenrode in Leiderdorp en bakken een frietje met een snackje voor alle bewoners
URL:https://loversoffood.nl/event/frietje-en-een-snackje/
LOCATION:Alrijne leythenrode\, Hoogmadeseweg 55\, Leiderdorp\, 2351CP
END:VEVENT
BEGIN:VEVENT
DTSTART;TZID=UTC:20260827T100000
DTEND;TZID=UTC:20260827T133000
DTSTAMP:20260420T223832
CREATED:20260331T144853Z
LAST-MODIFIED:20260419T140148Z
UID:1421-1787824800-1787837400@loversoffood.nl
SUMMARY:Heerlijk gerookte vis in Noordwijkerhout (extra dag)
DESCRIPTION:We staan direct bij binnenkomst
URL:https://loversoffood.nl/event/heerlijk-gerookte-vis-in-noordwijkerhout-extra-dag-3-2/
LOCATION:Topaz Munnekeweij\, Via Antiqua 25\, Noordwijkerhout\, 2211 HW
END:VEVENT
BEGIN:VEVENT
DTSTART;TZID=UTC:20260828T100000
DTEND;TZID=UTC:20260828T133000
DTSTAMP:20260420T223832
CREATED:20260312T135622Z
LAST-MODIFIED:20260312T140820Z
UID:1260-1787911200-1787923800@loversoffood.nl
SUMMARY:Heerlijke gerookte vis in Oegstgeest
DESCRIPTION:
URL:https://loversoffood.nl/event/heerlijke-gerookte-vis-8/
LOCATION:Van Wijckerslooth\, van Wijckerslootplein 1\, Oegstgeest\, 2341 BB
END:VEVENT
END:VCALENDAR