BEGIN:VCALENDAR
VERSION:2.0
PRODID:-//Lovers of food - ECPv6.15.18//NONSGML v1.0//EN
CALSCALE:GREGORIAN
METHOD:PUBLISH
X-WR-CALNAME:Lovers of food
X-ORIGINAL-URL:https://loversoffood.nl
X-WR-CALDESC:Evenementen voor Lovers of food
REFRESH-INTERVAL;VALUE=DURATION:PT1H
X-Robots-Tag:noindex
X-PUBLISHED-TTL:PT1H
BEGIN:VTIMEZONE
TZID:UTC
BEGIN:STANDARD
TZOFFSETFROM:+0000
TZOFFSETTO:+0000
TZNAME:UTC
DTSTART:20250101T000000
END:STANDARD
END:VTIMEZONE
BEGIN:VEVENT
DTSTART;TZID=UTC:20260903T110000
DTEND;TZID=UTC:20260903T153000
DTSTAMP:20260421T001649
CREATED:20260312T135819Z
LAST-MODIFIED:20260312T140749Z
UID:1262-1788433200-1788449400@loversoffood.nl
SUMMARY:Heerlijke gerookte vis in Katwijk
DESCRIPTION:
URL:https://loversoffood.nl/event/heerlijke-gerookte-vis-9/
LOCATION:Marente\, De Wilbert\, Overrijn 7\, Katwijk aan zee\, 2223 ER
END:VEVENT
BEGIN:VEVENT
DTSTART;TZID=UTC:20260907T100000
DTEND;TZID=UTC:20260907T130000
DTSTAMP:20260421T001649
CREATED:20260312T135846Z
LAST-MODIFIED:20260312T140725Z
UID:1264-1788775200-1788786000@loversoffood.nl
SUMMARY:Heerlijke gerookte vis in Leiderdorp
DESCRIPTION:
URL:https://loversoffood.nl/event/heerlijke-gerookte-vis-10/
LOCATION:Alrijne leythenrode\, Hoogmadeseweg 55\, Leiderdorp\, 2351CP
END:VEVENT
BEGIN:VEVENT
DTSTART;TZID=UTC:20260908T100000
DTEND;TZID=UTC:20260908T133000
DTSTAMP:20260421T001649
CREATED:20260208T175350Z
LAST-MODIFIED:20260312T140206Z
UID:1142-1788861600-1788874200@loversoffood.nl
SUMMARY:Heerlijke gerookte vis op de kermis in noordwijkerhout
DESCRIPTION:
URL:https://loversoffood.nl/event/heerlijke-gerookte-vis-in-noordwijk-7/
LOCATION:Noordwijkerhout
END:VEVENT
BEGIN:VEVENT
DTSTART;TZID=UTC:20260909T140000
DTEND;TZID=UTC:20260909T230000
DTSTAMP:20260421T001649
CREATED:20260312T135948Z
LAST-MODIFIED:20260312T140229Z
UID:1266-1788962400-1788994800@loversoffood.nl
SUMMARY:Heerlijke gerookte vis op de Kermis noordwijkerhout
DESCRIPTION:
URL:https://loversoffood.nl/event/heerlijke-gerookte-vis-op-de-kermis-noordwijkerhout/
LOCATION:Noordwijkerhout
END:VEVENT
BEGIN:VEVENT
DTSTART;TZID=UTC:20260910T090000
DTEND;TZID=UTC:20260910T123000
DTSTAMP:20260421T001649
CREATED:20260208T175424Z
LAST-MODIFIED:20260312T140650Z
UID:1144-1789030800-1789043400@loversoffood.nl
SUMMARY:Heerlijke gerookte vis in Noordwijkerhout
DESCRIPTION:
URL:https://loversoffood.nl/event/heerlijke-gerookte-vis-in-den-haag-6/
LOCATION:Topaz Munnekeweij\, Via Antiqua 25\, Noordwijkerhout\, 2211 HW
END:VEVENT
BEGIN:VEVENT
DTSTART;TZID=UTC:20260910T140000
DTEND;TZID=UTC:20260910T230000
DTSTAMP:20260421T001649
CREATED:20260312T140545Z
LAST-MODIFIED:20260312T140545Z
UID:1272-1789048800-1789081200@loversoffood.nl
SUMMARY:Heerlijke gerookte vis op de kermis in Noordwijkerhout
DESCRIPTION:
URL:https://loversoffood.nl/event/heerlijke-gerookte-vis-op-de-kermis-in-noordwijkerhout/
LOCATION:Noordwijkerhout
END:VEVENT
BEGIN:VEVENT
DTSTART;TZID=UTC:20260911T140000
DTEND;TZID=UTC:20260911T230000
DTSTAMP:20260421T001649
CREATED:20260312T141636Z
LAST-MODIFIED:20260312T141636Z
UID:1283-1789135200-1789167600@loversoffood.nl
SUMMARY:Heerlijke gerookte vis op de kermis in Noordwijkerhout
DESCRIPTION:
URL:https://loversoffood.nl/event/heerlijke-gerookte-vis-op-de-kermis-in-noordwijkerhout-2/
LOCATION:Noordwijkerhout
END:VEVENT
BEGIN:VEVENT
DTSTART;TZID=UTC:20260915T100000
DTEND;TZID=UTC:20260915T133000
DTSTAMP:20260421T001649
CREATED:20260312T141738Z
LAST-MODIFIED:20260312T141738Z
UID:1285-1789466400-1789479000@loversoffood.nl
SUMMARY:Heerlijke gerookte vis in Leiden
DESCRIPTION:
URL:https://loversoffood.nl/event/heerlijke-gerookte-vis-in-leiden-3/
LOCATION:Topaz Overrhyn\, Willem de Zwijgerlaan 44\, Leiden\, 2326GJ
END:VEVENT
BEGIN:VEVENT
DTSTART;TZID=UTC:20260916T100000
DTEND;TZID=UTC:20260916T133000
DTSTAMP:20260421T001649
CREATED:20260312T141813Z
LAST-MODIFIED:20260312T141813Z
UID:1287-1789552800-1789565400@loversoffood.nl
SUMMARY:Heerlijke gerookte vis in Noordwijk
DESCRIPTION:
URL:https://loversoffood.nl/event/heerlijke-gerookte-vis-in-noordwijk-11/
LOCATION:Groot Hoogwaak\, Groot hoogwaak 1\, Noordwijk\, 2202 TX
END:VEVENT
BEGIN:VEVENT
DTSTART;TZID=UTC:20260917T100000
DTEND;TZID=UTC:20260917T133000
DTSTAMP:20260421T001649
CREATED:20260312T141853Z
LAST-MODIFIED:20260312T141853Z
UID:1289-1789639200-1789651800@loversoffood.nl
SUMMARY:Heerlijke gerookte vis in Den Haag
DESCRIPTION:
URL:https://loversoffood.nl/event/heerlijke-gerookte-vis-in-den-haag-4/
LOCATION:Huize Royal\, Rusthoekstraat 38\, Den Haag\, 2584 CV
END:VEVENT
BEGIN:VEVENT
DTSTART;TZID=UTC:20260918T100000
DTEND;TZID=UTC:20260918T133000
DTSTAMP:20260421T001649
CREATED:20260312T141932Z
LAST-MODIFIED:20260312T141932Z
UID:1291-1789725600-1789738200@loversoffood.nl
SUMMARY:Heerlijke gerookte vis in Noordwijkerhout
DESCRIPTION:
URL:https://loversoffood.nl/event/heerlijke-gerookte-vis-in-noordwijkerhout-5/
LOCATION:Topaz Munnekeweij\, Via Antiqua 25\, Noordwijkerhout\, 2211 HW
END:VEVENT
BEGIN:VEVENT
DTSTART;TZID=UTC:20260925T113000
DTEND;TZID=UTC:20260925T143000
DTSTAMP:20260421T001649
CREATED:20260331T145917Z
LAST-MODIFIED:20260419T140402Z
UID:1428-1790335800-1790346600@loversoffood.nl
SUMMARY:Frietje en een snackje Leiderdorp
DESCRIPTION:Vandaag staan we in Leythenrode in Leiderdorp en bakken een frietje met een snackje voor alle bewoners
URL:https://loversoffood.nl/event/frietje-en-een-snackje-2/
LOCATION:Alrijne leythenrode\, Hoogmadeseweg 55\, Leiderdorp\, 2351CP
END:VEVENT
BEGIN:VEVENT
DTSTART;TZID=UTC:20260926T170000
DTEND;TZID=UTC:20260926T170000
DTSTAMP:20260421T001649
CREATED:20260419T134137Z
LAST-MODIFIED:20260419T134145Z
UID:1531-1790442000-1790442000@loversoffood.nl
SUMMARY:Oktoberfest in de Schelft Noordwijkerhout
DESCRIPTION:Deze dag staan we met o.a. braadworsten met op het Bierfest in de Schelft Noordwijkerhout
URL:https://loversoffood.nl/event/oktoberfest-in-de-schelft-noordwijkerhout-2/
LOCATION:Noordwijkerhout
END:VEVENT
END:VCALENDAR