BEGIN:VCALENDAR
VERSION:2.0
PRODID:-//Lovers of food - ECPv6.15.18//NONSGML v1.0//EN
CALSCALE:GREGORIAN
METHOD:PUBLISH
X-WR-CALNAME:Lovers of food
X-ORIGINAL-URL:https://loversoffood.nl
X-WR-CALDESC:Evenementen voor Lovers of food
REFRESH-INTERVAL;VALUE=DURATION:PT1H
X-Robots-Tag:noindex
X-PUBLISHED-TTL:PT1H
BEGIN:VTIMEZONE
TZID:UTC
BEGIN:STANDARD
TZOFFSETFROM:+0000
TZOFFSETTO:+0000
TZNAME:UTC
DTSTART:20250101T000000
END:STANDARD
END:VTIMEZONE
BEGIN:VEVENT
DTSTART;TZID=UTC:20261102T100000
DTEND;TZID=UTC:20261102T130000
DTSTAMP:20260421T032333
CREATED:20260312T143328Z
LAST-MODIFIED:20260312T143328Z
UID:1309-1793613600-1793624400@loversoffood.nl
SUMMARY:Heerlijke gerookte vis in Leiderdorp
DESCRIPTION:
URL:https://loversoffood.nl/event/heerlijke-gerookte-vis-in-leiderdorp-5/
LOCATION:Alrijne leythenrode\, Hoogmadeseweg 55\, Leiderdorp\, 2351CP
END:VEVENT
BEGIN:VEVENT
DTSTART;TZID=UTC:20261105T110000
DTEND;TZID=UTC:20261105T153000
DTSTAMP:20260421T032333
CREATED:20260331T153126Z
LAST-MODIFIED:20260331T153126Z
UID:1423-1793876400-1793892600@loversoffood.nl
SUMMARY:Heerlijke gerookte vis in Katwijk
DESCRIPTION:
URL:https://loversoffood.nl/event/heerlijke-gerookte-vis-in-katwijk-6-2/
LOCATION:Marente\, De Wilbert\, Overrijn 7\, Katwijk aan zee\, 2223 ER
END:VEVENT
BEGIN:VEVENT
DTSTART;TZID=UTC:20261106T100000
DTEND;TZID=UTC:20261106T133000
DTSTAMP:20260421T032333
CREATED:20260312T143458Z
LAST-MODIFIED:20260312T143458Z
UID:1313-1793959200-1793971800@loversoffood.nl
SUMMARY:Heerlijke gerookte vis in Oegstgeest
DESCRIPTION:
URL:https://loversoffood.nl/event/heerlijke-gerookte-vis-in-oegstgeest-5/
LOCATION:Van Wijckerslooth\, van Wijckerslootplein 1\, Oegstgeest\, 2341 BB
END:VEVENT
BEGIN:VEVENT
DTSTART;TZID=UTC:20261110T100000
DTEND;TZID=UTC:20261110T133000
DTSTAMP:20260421T032333
CREATED:20260331T153324Z
LAST-MODIFIED:20260331T153324Z
UID:1433-1794304800-1794317400@loversoffood.nl
SUMMARY:Heerlijke gerookte vis in Leiden
DESCRIPTION:
URL:https://loversoffood.nl/event/heerlijke-gerookte-vis-in-leiden-4-2/
LOCATION:Topaz Overrhyn\, Willem de Zwijgerlaan 44\, Leiden\, 2326GJ
END:VEVENT
BEGIN:VEVENT
DTSTART;TZID=UTC:20261111T100000
DTEND;TZID=UTC:20261111T133000
DTSTAMP:20260421T032333
CREATED:20260208T175622Z
LAST-MODIFIED:20260208T175622Z
UID:1150-1794391200-1794403800@loversoffood.nl
SUMMARY:Heerlijke gerookte vis in Noordwijk
DESCRIPTION:
URL:https://loversoffood.nl/event/heerlijke-gerookte-vis-in-noordwijk-9/
LOCATION:Groot Hoogwaak\, Groot hoogwaak 1\, Noordwijk\, 2202 TX
END:VEVENT
BEGIN:VEVENT
DTSTART;TZID=UTC:20261112T100000
DTEND;TZID=UTC:20261112T133000
DTSTAMP:20260421T032333
CREATED:20260208T175704Z
LAST-MODIFIED:20260208T175704Z
UID:1152-1794477600-1794490200@loversoffood.nl
SUMMARY:Heerlijke gerookte vis in Den Haag
DESCRIPTION:
URL:https://loversoffood.nl/event/heerlijke-gerookte-vis-in-den-haag-8/
LOCATION:Huize Royal\, Rusthoekstraat 38\, Den Haag\, 2584 CV
END:VEVENT
BEGIN:VEVENT
DTSTART;TZID=UTC:20261113T100000
DTEND;TZID=UTC:20261113T133000
DTSTAMP:20260421T032333
CREATED:20260312T143717Z
LAST-MODIFIED:20260312T143717Z
UID:1318-1794564000-1794576600@loversoffood.nl
SUMMARY:Heerlijke gerookte vis in Noordwijkerhout
DESCRIPTION:
URL:https://loversoffood.nl/event/heerlijke-gerookte-vis-in-noordwijkerhout-8/
LOCATION:Topaz Munnekeweij\, Via Antiqua 25\, Noordwijkerhout\, 2211 HW
END:VEVENT
BEGIN:VEVENT
DTSTART;TZID=UTC:20261119T100000
DTEND;TZID=UTC:20261119T133000
DTSTAMP:20260421T032333
CREATED:20260413T054310Z
LAST-MODIFIED:20260413T054317Z
UID:1528-1795082400-1795095000@loversoffood.nl
SUMMARY:Heerlijk gerookte vis in Noordwijkerhout (extra dag)
DESCRIPTION:We staan bij binnenkomst. Direct in het atrium
URL:https://loversoffood.nl/event/heerlijk-gerookte-vis-in-noordwijkerhout-extra-dag-5/
LOCATION:Topaz Munnekeweij\, Via Antiqua 25\, Noordwijkerhout\, 2211 HW
END:VEVENT
BEGIN:VEVENT
DTSTART;TZID=UTC:20261126T100000
DTEND;TZID=UTC:20261126T133000
DTSTAMP:20260421T032333
CREATED:20260331T153510Z
LAST-MODIFIED:20260331T153510Z
UID:1435-1795687200-1795699800@loversoffood.nl
SUMMARY:Heerlijke gerookte vis in Noordwijkerhout (extra dag)
DESCRIPTION:We staan direct bij binnenkomst
URL:https://loversoffood.nl/event/heerlijke-gerookte-vis-in-noordwijkerhout-9-2-2/
LOCATION:Topaz Munnekeweij\, Via Antiqua 25\, Noordwijkerhout\, 2211 HW
END:VEVENT
END:VCALENDAR